BEGIN:VCALENDAR
VERSION:2.0
PRODID:-//yssl.org//NONSGML kigkonsult.se iCalcreator 2.41.92//
CALSCALE:GREGORIAN
METHOD:PUBLISH
UID:36383937-3966-4238-a134-346666386631
X-WR-CALNAME:YSSL Calendar
X-WR-CALDESC:YSSL Calendar
X-WR-TIMEZONE:America/Chicago
BEGIN:VEVENT
UID:66623839-6462-4730-a131-343831303161
DTSTAMP:20260424T084009Z
CLASS:PUBLIC
DESCRIPTION:YSSL 9U/4C2 Game
DTSTART;TZID=America/Chicago:20260412T130000
DTEND;TZID=America/Chicago:20260412T130000
LOCATION:COMMUNITY PARK (ADDISON) - 7V7
SUMMARY:Game: 9U/4C2 TIGRES DC 2017 vs ELA ELITE 2017 PREMIER
TRANSP:OPAQUE
END:VEVENT
BEGIN:VEVENT
UID:37663536-6362-4935-b538-373664633461
DTSTAMP:20260424T084009Z
CLASS:PUBLIC
DESCRIPTION:YSSL 9U/4C2 Game
DTSTART;TZID=America/Chicago:20260425T173000
DTEND;TZID=America/Chicago:20260425T173000
LOCATION:ORCHARD FIELD - 7V7
SUMMARY:Game: 9U/4C2 ELA ELITE 2017 PREMIER vs LISLE FC 2017 WOLVERHAMPTON
TRANSP:OPAQUE
END:VEVENT
BEGIN:VEVENT
UID:62663831-3866-4562-a136-356566383362
DTSTAMP:20260424T084009Z
CLASS:PUBLIC
DESCRIPTION:YSSL 9U/4C2 Game
DTSTART;TZID=America/Chicago:20260607T163000
DTEND;TZID=America/Chicago:20260607T163000
LOCATION:COMMUNITY PARK (ADDISON)
SUMMARY:Game: 9U/4C2 DPSAL 2017 vs ELA ELITE 2017 PREMIER
TRANSP:OPAQUE
END:VEVENT
BEGIN:VEVENT
UID:63656266-3461-4266-b534-653766383933
DTSTAMP:20260424T084009Z
CLASS:PUBLIC
DESCRIPTION:YSSL 9U/4C2 Game
DTSTART;TZID=America/Chicago:20260502T093000
DTEND;TZID=America/Chicago:20260502T093000
LOCATION:ORCHARD FIELD - 7V7
SUMMARY:Game: 9U/4C2 ELA ELITE 2017 PREMIER vs CHICAGO INTER SYNERGY 2017 G
 REEN
TRANSP:OPAQUE
END:VEVENT
BEGIN:VEVENT
UID:37303463-6231-4263-b264-653838336539
DTSTAMP:20260424T084009Z
CLASS:PUBLIC
DESCRIPTION:YSSL 9U/4C2 Game
DTSTART;TZID=America/Chicago:20260510T080000
DTEND;TZID=America/Chicago:20260510T080000
LOCATION:OAK BROOK POLO FIELDS - F 7V7
SUMMARY:Game: 9U/4C2 CHICAGO EMPIRE FC 2017 BLUE vs ELA ELITE 2017 PREMIER
TRANSP:OPAQUE
END:VEVENT
BEGIN:VEVENT
UID:35336364-3732-4863-b539-656366313535
DTSTAMP:20260424T084009Z
CLASS:PUBLIC
DESCRIPTION:YSSL 9U/4C2 Game
DTSTART;TZID=America/Chicago:20260509T123000
DTEND;TZID=America/Chicago:20260509T123000
LOCATION:ORCHARD FIELD - 7V7
SUMMARY:Game: 9U/4C2 ELA ELITE 2017 PREMIER vs TIGRES DC 2017
TRANSP:OPAQUE
END:VEVENT
BEGIN:VEVENT
UID:66643732-3235-4334-a338-303865346164
DTSTAMP:20260424T084009Z
CLASS:PUBLIC
DESCRIPTION:YSSL 9U/4C2 Game
DTSTART;TZID=America/Chicago:20260531T170000
DTEND;TZID=America/Chicago:20260531T170000
LOCATION:RIVER ROAD PARK - 7V7 FIELD
SUMMARY:Game: 9U/4C2 LISLE FC 2017 WOLVERHAMPTON vs ELA ELITE 2017 PREMIER
TRANSP:OPAQUE
END:VEVENT
BEGIN:VEVENT
UID:34356137-6563-4162-b334-373566666234
DTSTAMP:20260424T084009Z
CLASS:PUBLIC
DESCRIPTION:YSSL 9U/4C2 Game
DTSTART;TZID=America/Chicago:20260606T090000
DTEND;TZID=America/Chicago:20260606T090000
LOCATION:ORCHARD FIELD - 7V7
SUMMARY:Game: 9U/4C2 ELA ELITE 2017 PREMIER vs DPSAL 2017
TRANSP:OPAQUE
END:VEVENT
END:VCALENDAR
