BEGIN:VCALENDAR
VERSION:2.0
PRODID:-//yssl.org//NONSGML kigkonsult.se iCalcreator 2.41.92//
CALSCALE:GREGORIAN
METHOD:PUBLISH
UID:37313962-6431-4364-a334-613737663838
X-WR-CALNAME:YSSL Calendar
X-WR-CALDESC:YSSL Calendar
X-WR-TIMEZONE:America/Chicago
BEGIN:VEVENT
UID:31666661-6136-4639-b933-663138303364
DTSTAMP:20260425T041131Z
CLASS:PUBLIC
DESCRIPTION:YSSL 9U/4N2 Game
DTSTART;TZID=America/Chicago:20260411T120000
DTEND;TZID=America/Chicago:20260411T120000
LOCATION:MCHENRY MIDDLE SCHOOL - #2
SUMMARY:Game: 9U/4N2 IP-NUFC 2017 REAL vs ELA ELITE 2017 SELECT
TRANSP:OPAQUE
END:VEVENT
BEGIN:VEVENT
UID:66623235-6537-4337-b931-666461373331
DTSTAMP:20260425T041131Z
CLASS:PUBLIC
DESCRIPTION:YSSL 9U/4N2 Game
DTSTART;TZID=America/Chicago:20260607T090000
DTEND;TZID=America/Chicago:20260607T090000
LOCATION:ORCHARD FIELD - 7V7
SUMMARY:Game: 9U/4N2 ELA ELITE 2017 SELECT vs LIBERTYVILLE FC 1974-2017C-BL
 ACK 1
TRANSP:OPAQUE
END:VEVENT
BEGIN:VEVENT
UID:30303638-3438-4663-a630-396535396434
DTSTAMP:20260425T041131Z
CLASS:PUBLIC
DESCRIPTION:YSSL 9U/4N2 Game
DTSTART;TZID=America/Chicago:20260425T143000
DTEND;TZID=America/Chicago:20260425T143000
LOCATION:ORCHARD FIELD - 7V7
SUMMARY:Game: 9U/4N2 ELA ELITE 2017 SELECT vs MUNDELEIN LIONS 2017 BLUE
TRANSP:OPAQUE
END:VEVENT
BEGIN:VEVENT
UID:39396263-6436-4334-a561-343233643162
DTSTAMP:20260425T041131Z
CLASS:PUBLIC
DESCRIPTION:YSSL 9U/4N2 Game
DTSTART;TZID=America/Chicago:20260503T123000
DTEND;TZID=America/Chicago:20260503T123000
LOCATION:BRICKYARD
SUMMARY:Game: 9U/4N2 PEGASUS FC/1974 2017 WHITE vs ELA ELITE 2017 SELECT
TRANSP:OPAQUE
END:VEVENT
BEGIN:VEVENT
UID:32616564-3237-4832-b135-393432366332
DTSTAMP:20260425T041131Z
CLASS:PUBLIC
DESCRIPTION:YSSL 9U/4N2 Game
DTSTART;TZID=America/Chicago:20260509T103000
DTEND;TZID=America/Chicago:20260509T103000
LOCATION:ORCHARD FIELD - 7V7
SUMMARY:Game: 9U/4N2 ELA ELITE 2017 SELECT vs PALATINE CELTIC 2017 BLACK
TRANSP:OPAQUE
END:VEVENT
BEGIN:VEVENT
UID:65306431-6533-4735-a135-393633306330
DTSTAMP:20260425T041131Z
CLASS:PUBLIC
DESCRIPTION:YSSL 9U/4N2 Game
DTSTART;TZID=America/Chicago:20260426T140000
DTEND;TZID=America/Chicago:20260426T140000
LOCATION:LTSC FLD - FIELD 2A
SUMMARY:Game: 9U/4N2 LIBERTYVILLE FC 1974-2017C-BLACK 1 vs ELA ELITE 2017 S
 ELECT
TRANSP:OPAQUE
END:VEVENT
BEGIN:VEVENT
UID:64363435-3237-4137-a465-383339643137
DTSTAMP:20260425T041131Z
CLASS:PUBLIC
DESCRIPTION:YSSL 9U/4N2 Game
DTSTART;TZID=America/Chicago:20260530T103000
DTEND;TZID=America/Chicago:20260530T103000
LOCATION:ORCHARD FIELD - 7V7
SUMMARY:Game: 9U/4N2 ELA ELITE 2017 SELECT vs IP-NUFC 2017 REAL
TRANSP:OPAQUE
END:VEVENT
BEGIN:VEVENT
UID:31393134-3631-4634-b634-343932633438
DTSTAMP:20260425T041131Z
CLASS:PUBLIC
DESCRIPTION:YSSL 9U/4N2 Game
DTSTART;TZID=America/Chicago:20260606T153000
DTEND;TZID=America/Chicago:20260606T153000
LOCATION:CELTIC PARK FIELD  - TURF 2A
SUMMARY:Game: 9U/4N2 PALATINE CELTIC 2017 BLACK vs ELA ELITE 2017 SELECT
TRANSP:OPAQUE
END:VEVENT
END:VCALENDAR
