BEGIN:VCALENDAR
VERSION:2.0
PRODID:-//yssl.org//NONSGML kigkonsult.se iCalcreator 2.41.92//
CALSCALE:GREGORIAN
METHOD:PUBLISH
UID:30316563-6535-4164-a132-333933646331
X-WR-CALNAME:YSSL Calendar
X-WR-CALDESC:YSSL Calendar
X-WR-TIMEZONE:America/Chicago
BEGIN:VEVENT
UID:66646466-3565-4466-b262-336333343665
DTSTAMP:20260424T232219Z
CLASS:PUBLIC
DESCRIPTION:YSSL 8U-7V7/4NW Game
DTSTART;TZID=America/Chicago:20260411T120000
DTEND;TZID=America/Chicago:20260411T120000
LOCATION:OLYMPIC PARK FIELD - 8B
SUMMARY:Game: 8U-7V7/4NW SAA UNITED SC 2018 BLACK vs ELA ELITE 2018 PREMIER
TRANSP:OPAQUE
END:VEVENT
BEGIN:VEVENT
UID:34646561-6666-4538-b936-353037396163
DTSTAMP:20260424T232219Z
CLASS:PUBLIC
DESCRIPTION:YSSL 8U-7V7/4NW Game
DTSTART;TZID=America/Chicago:20260531T173000
DTEND;TZID=America/Chicago:20260531T173000
LOCATION:ORCHARD FIELD - 7V7
SUMMARY:Game: 8U-7V7/4NW ELA ELITE 2018 PREMIER vs PRSC 2018 WHITE
TRANSP:OPAQUE
END:VEVENT
BEGIN:VEVENT
UID:31326331-3833-4762-a437-663033376231
DTSTAMP:20260424T232219Z
CLASS:PUBLIC
DESCRIPTION:YSSL 8U-7V7/4NW Game
DTSTART;TZID=America/Chicago:20260412T170000
DTEND;TZID=America/Chicago:20260412T170000
LOCATION:LIPPOLD PARK SOCCER COMPLEX - FIELD 6
SUMMARY:Game: 8U-7V7/4NW FORCE 2018B PREMIER BLUE vs ELA ELITE 2018 PREMIER
TRANSP:OPAQUE
END:VEVENT
BEGIN:VEVENT
UID:62623435-6630-4563-b162-666232366130
DTSTAMP:20260424T232219Z
CLASS:PUBLIC
DESCRIPTION:YSSL 8U-7V7/4NW Game
DTSTART;TZID=America/Chicago:20260502T133000
DTEND;TZID=America/Chicago:20260502T133000
LOCATION:ORCHARD FIELD - 7V7
SUMMARY:Game: 8U-7V7/4NW ELA ELITE 2018 PREMIER vs FC-1 ACADEMY 2018 ELITE 
 GREY
TRANSP:OPAQUE
END:VEVENT
BEGIN:VEVENT
UID:65373231-6131-4137-a533-633564313535
DTSTAMP:20260424T232219Z
CLASS:PUBLIC
DESCRIPTION:YSSL 8U-7V7/4NW Game
DTSTART;TZID=America/Chicago:20260509T133000
DTEND;TZID=America/Chicago:20260509T133000
LOCATION:MELAS PARK - #3  7V7
SUMMARY:Game: 8U-7V7/4NW ELITE S.C. 2018/19 BLACK vs ELA ELITE 2018 PREMIER
TRANSP:OPAQUE
END:VEVENT
BEGIN:VEVENT
UID:66393338-6663-4335-b030-346262623433
DTSTAMP:20260424T232219Z
CLASS:PUBLIC
DESCRIPTION:YSSL 8U-7V7/4NW Game
DTSTART;TZID=America/Chicago:20260516T133000
DTEND;TZID=America/Chicago:20260516T133000
LOCATION:ORCHARD FIELD - 7V7
SUMMARY:Game: 8U-7V7/4NW ELA ELITE 2018 PREMIER vs SAA UNITED SC 2018 BLACK
TRANSP:OPAQUE
END:VEVENT
BEGIN:VEVENT
UID:63346166-6566-4435-b463-323537316136
DTSTAMP:20260424T232219Z
CLASS:PUBLIC
DESCRIPTION:YSSL 8U-7V7/4NW Game
DTSTART;TZID=America/Chicago:20260530T120000
DTEND;TZID=America/Chicago:20260530T120000
LOCATION:EMERSON MIDDLE SCHOOL  - NE
SUMMARY:Game: 8U-7V7/4NW PRSC 2018 WHITE vs ELA ELITE 2018 PREMIER
TRANSP:OPAQUE
END:VEVENT
BEGIN:VEVENT
UID:62383436-3436-4332-b361-336262343032
DTSTAMP:20260424T232219Z
CLASS:PUBLIC
DESCRIPTION:YSSL 8U-7V7/4NW Game
DTSTART;TZID=America/Chicago:20260606T133000
DTEND;TZID=America/Chicago:20260606T133000
LOCATION:ORCHARD FIELD - 7V7
SUMMARY:Game: 8U-7V7/4NW ELA ELITE 2018 PREMIER vs FORCE 2018B PREMIER BLUE
TRANSP:OPAQUE
END:VEVENT
END:VCALENDAR
