BEGIN:VCALENDAR
VERSION:2.0
PRODID:-//yssl.org//NONSGML kigkonsult.se iCalcreator 2.41.92//
CALSCALE:GREGORIAN
METHOD:PUBLISH
UID:30313766-6239-4830-b633-643662376137
X-WR-CALNAME:YSSL Calendar
X-WR-CALDESC:YSSL Calendar
X-WR-TIMEZONE:America/Chicago
BEGIN:VEVENT
UID:35333862-6366-4533-b736-643236326463
DTSTAMP:20260424T232149Z
CLASS:PUBLIC
DESCRIPTION:YSSL 8U-7V7/3S Game
DTSTART;TZID=America/Chicago:20260411T090000
DTEND;TZID=America/Chicago:20260411T090000
LOCATION:DEER PARK TOWN CENTER - 7V7
SUMMARY:Game: 8U-7V7/3S ELA ELITE 2018 vs BARCA ACADEMY CHICAGO 2018 BLAU
TRANSP:OPAQUE
END:VEVENT
BEGIN:VEVENT
UID:37333733-6139-4266-b432-643763663338
DTSTAMP:20260424T232149Z
CLASS:PUBLIC
DESCRIPTION:YSSL 8U-7V7/3S Game
DTSTART;TZID=America/Chicago:20260425T090000
DTEND;TZID=America/Chicago:20260425T090000
LOCATION:DEER PARK TOWN CENTER - 7V7
SUMMARY:Game: 8U-7V7/3S ELA ELITE 2018 vs FCB 2018 BLACK
TRANSP:OPAQUE
END:VEVENT
BEGIN:VEVENT
UID:37633731-3935-4039-b766-643733616266
DTSTAMP:20260424T232149Z
CLASS:PUBLIC
DESCRIPTION:YSSL 8U-7V7/3S Game
DTSTART;TZID=America/Chicago:20260426T180000
DTEND;TZID=America/Chicago:20260426T180000
LOCATION:OAK BROOK POLO FIELDS - F 7V7
SUMMARY:Game: 8U-7V7/3S CHICAGO EMPIRE FC 2018 GOLD 1 vs ELA ELITE 2018
TRANSP:OPAQUE
END:VEVENT
BEGIN:VEVENT
UID:64643166-3464-4133-b661-303934316266
DTSTAMP:20260424T232149Z
CLASS:PUBLIC
DESCRIPTION:YSSL 8U-7V7/3S Game
DTSTART;TZID=America/Chicago:20260509T090000
DTEND;TZID=America/Chicago:20260509T090000
LOCATION:DEER PARK TOWN CENTER - 7V7
SUMMARY:Game: 8U-7V7/3S ELA ELITE 2018 vs WEST CHICAGO FC 2018 RED
TRANSP:OPAQUE
END:VEVENT
BEGIN:VEVENT
UID:32336265-3836-4361-a139-363731613036
DTSTAMP:20260424T232149Z
CLASS:PUBLIC
DESCRIPTION:YSSL 8U-7V7/3S Game
DTSTART;TZID=America/Chicago:20260419T100000
DTEND;TZID=America/Chicago:20260419T100000
LOCATION:BUFFALO CREEK
SUMMARY:Game: 8U-7V7/3S ELA ELITE 2018 vs ECLIPSE 2018 SOLAR NAPERVILLE
TRANSP:OPAQUE
END:VEVENT
BEGIN:VEVENT
UID:63616133-6562-4338-b532-343165613465
DTSTAMP:20260424T232149Z
CLASS:PUBLIC
DESCRIPTION:YSSL 8U-7V7/3S Game
DTSTART;TZID=America/Chicago:20260530T174500
DTEND;TZID=America/Chicago:20260530T174500
LOCATION:OLYMPIC PARK FIELD - FIELD 8
SUMMARY:Game: 8U-7V7/3S BARCA ACADEMY CHICAGO 2018 BLAU vs ELA ELITE 2018
TRANSP:OPAQUE
END:VEVENT
BEGIN:VEVENT
UID:37613539-3335-4865-b936-383962623834
DTSTAMP:20260424T232149Z
CLASS:PUBLIC
DESCRIPTION:YSSL 8U-7V7/3S Game
DTSTART;TZID=America/Chicago:20260606T100000
DTEND;TZID=America/Chicago:20260606T100000
LOCATION:CENTRAL PARK FIELDS - FOREST GATE RD. ENTRANCE - 7V7
SUMMARY:Game: 8U-7V7/3S ECLIPSE 2018 SOLAR NAPERVILLE vs ELA ELITE 2018
TRANSP:OPAQUE
END:VEVENT
BEGIN:VEVENT
UID:38346530-3463-4735-a437-303865396235
DTSTAMP:20260424T232149Z
CLASS:PUBLIC
DESCRIPTION:YSSL 8U-7V7/3S Game
DTSTART;TZID=America/Chicago:20260607T163000
DTEND;TZID=America/Chicago:20260607T163000
LOCATION:RON BEESE PARK - RB 3
SUMMARY:Game: 8U-7V7/3S FCB 2018 BLACK vs ELA ELITE 2018
TRANSP:OPAQUE
END:VEVENT
END:VCALENDAR
