BEGIN:VCALENDAR
VERSION:2.0
PRODID:-//yssl.org//NONSGML kigkonsult.se iCalcreator 2.41.92//
CALSCALE:GREGORIAN
METHOD:PUBLISH
UID:36353165-3038-4537-b334-333036306162
X-WR-CALNAME:YSSL Calendar
X-WR-CALDESC:YSSL Calendar
X-WR-TIMEZONE:America/Chicago
BEGIN:VEVENT
UID:39616563-6134-4066-b130-626266333465
DTSTAMP:20260424T154134Z
CLASS:PUBLIC
DESCRIPTION:YSSL 17U/3N Game
DTSTART;TZID=America/Chicago:20260412T110000
DTEND;TZID=America/Chicago:20260412T110000
LOCATION:KNIGGE FIELD - 11V11
SUMMARY:Game: 17U/3N ELA ELITE 2009 vs FC STARS POWERSRIKERS 2009 WHITE
TRANSP:OPAQUE
END:VEVENT
BEGIN:VEVENT
UID:35316665-3263-4232-a163-373030396432
DTSTAMP:20260424T154134Z
CLASS:PUBLIC
DESCRIPTION:YSSL 17U/3N Game
DTSTART;TZID=America/Chicago:20260426T100000
DTEND;TZID=America/Chicago:20260426T100000
LOCATION:KNIGGE FIELD - 11V11
SUMMARY:Game: 17U/3N ELA ELITE 2009 vs PALATINE CELTIC 2009 GREEN
TRANSP:OPAQUE
END:VEVENT
BEGIN:VEVENT
UID:33343365-6132-4638-a338-653132633032
DTSTAMP:20260424T154134Z
CLASS:PUBLIC
DESCRIPTION:YSSL 17U/3N Game
DTSTART;TZID=America/Chicago:20260503T110000
DTEND;TZID=America/Chicago:20260503T110000
LOCATION:KNIGGE FIELD - 11V11
SUMMARY:Game: 17U/3N ELA ELITE 2009 vs 60 UNITED - LFSA 2009 BLUE
TRANSP:OPAQUE
END:VEVENT
BEGIN:VEVENT
UID:34376438-6466-4961-a430-386436343263
DTSTAMP:20260424T154134Z
CLASS:PUBLIC
DESCRIPTION:YSSL 17U/3N Game
DTSTART;TZID=America/Chicago:20260425T090000
DTEND;TZID=America/Chicago:20260425T090000
LOCATION:KNIGGE FIELD - 11V11
SUMMARY:Game: 17U/3N ELA ELITE 2009 vs LIBERTYVILLE FC 1974-2009A-SELECT
TRANSP:OPAQUE
END:VEVENT
BEGIN:VEVENT
UID:65653635-6434-4833-a263-383236323161
DTSTAMP:20260424T154134Z
CLASS:PUBLIC
DESCRIPTION:YSSL 17U/3N Game
DTSTART;TZID=America/Chicago:20260517T160000
DTEND;TZID=America/Chicago:20260517T160000
LOCATION:LAKE VILLA TOWNSHIP SOCCER COMPLEX  - FIELD E - 11V11
SUMMARY:Game: 17U/3N LASC 2009/2010 PREMIER vs ELA ELITE 2009
TRANSP:OPAQUE
END:VEVENT
BEGIN:VEVENT
UID:61333634-3739-4563-a230-386531326335
DTSTAMP:20260424T154134Z
CLASS:PUBLIC
DESCRIPTION:YSSL 17U/3N Game
DTSTART;TZID=America/Chicago:20260531T140000
DTEND;TZID=America/Chicago:20260531T140000
LOCATION:LIPPOLD PARK SOCCER COMPLEX - FIELD 4
SUMMARY:Game: 17U/3N FORCE 2009B PREMIER vs ELA ELITE 2009
TRANSP:OPAQUE
END:VEVENT
BEGIN:VEVENT
UID:63366339-3165-4261-b134-383163343935
DTSTAMP:20260424T154134Z
CLASS:PUBLIC
DESCRIPTION:YSSL 17U/3N Game
DTSTART;TZID=America/Chicago:20260606T170000
DTEND;TZID=America/Chicago:20260606T170000
LOCATION:CANTON MIDDLE SCHOOL
SUMMARY:Game: 17U/3N GOLEADORES 2009/2010 vs ELA ELITE 2009
TRANSP:OPAQUE
END:VEVENT
BEGIN:VEVENT
UID:66333835-3064-4263-b331-393730393733
DTSTAMP:20260424T154134Z
CLASS:PUBLIC
DESCRIPTION:YSSL 17U/3N Game
DTSTART;TZID=America/Chicago:20260411T120000
DTEND;TZID=America/Chicago:20260411T120000
LOCATION:DANNY CUNNIFF  - NORTH  LARGE
SUMMARY:Game: 17U/3N CHICAGO MAGIC 2009 ELITE vs ELA ELITE 2009
TRANSP:OPAQUE
END:VEVENT
END:VCALENDAR
