BEGIN:VCALENDAR
VERSION:2.0
PRODID:-//yssl.org//NONSGML kigkonsult.se iCalcreator 2.41.92//
CALSCALE:GREGORIAN
METHOD:PUBLISH
UID:33326666-6661-4736-b963-323334633937
X-WR-CALNAME:YSSL Calendar
X-WR-CALDESC:YSSL Calendar
X-WR-TIMEZONE:America/Chicago
BEGIN:VEVENT
UID:37343230-6561-4437-b530-366262353965
DTSTAMP:20260424T125014Z
CLASS:PUBLIC
DESCRIPTION:YSSL 14U/5N Game
DTSTART;TZID=America/Chicago:20260411T130000
DTEND;TZID=America/Chicago:20260411T130000
LOCATION:KNIGGE FIELD - 11V11
SUMMARY:Game: 14U/5N ELA ELITE 2012 PREMIER vs ELITE S.C. 2012 BLACK
TRANSP:OPAQUE
END:VEVENT
BEGIN:VEVENT
UID:35666434-3039-4861-a136-353034366562
DTSTAMP:20260424T125014Z
CLASS:PUBLIC
DESCRIPTION:YSSL 14U/5N Game
DTSTART;TZID=America/Chicago:20260607T174500
DTEND;TZID=America/Chicago:20260607T174500
LOCATION:CLAVEY PARK
SUMMARY:Game: 14U/5N PEGASUS FC/1974 2012 BLACK vs ELA ELITE 2012 PREMIER
TRANSP:OPAQUE
END:VEVENT
BEGIN:VEVENT
UID:36373561-3966-4334-a134-643035666139
DTSTAMP:20260424T125014Z
CLASS:PUBLIC
DESCRIPTION:YSSL 14U/5N Game
DTSTART;TZID=America/Chicago:20260425T130000
DTEND;TZID=America/Chicago:20260425T130000
LOCATION:KNIGGE FIELD - 11V11
SUMMARY:Game: 14U/5N ELA ELITE 2012 PREMIER vs REAL MADRID ROUND LAKE FC 20
 12 ELITE
TRANSP:OPAQUE
END:VEVENT
BEGIN:VEVENT
UID:62393834-3034-4734-a534-653735303666
DTSTAMP:20260424T125014Z
CLASS:PUBLIC
DESCRIPTION:YSSL 14U/5N Game
DTSTART;TZID=America/Chicago:20260503T120000
DTEND;TZID=America/Chicago:20260503T120000
LOCATION:COMMUNITY PARK WEST (GLENVIEW) - 6 - (11 V 11)
SUMMARY:Game: 14U/5N FC-1 ACADEMY 2012 SELECT GREY vs ELA ELITE 2012 PREMIE
 R
TRANSP:OPAQUE
END:VEVENT
BEGIN:VEVENT
UID:33653032-6633-4231-a537-383164626139
DTSTAMP:20260424T125014Z
CLASS:PUBLIC
DESCRIPTION:YSSL 14U/5N Game
DTSTART;TZID=America/Chicago:20260509T130000
DTEND;TZID=America/Chicago:20260509T130000
LOCATION:KNIGGE FIELD - 11V11
SUMMARY:Game: 14U/5N ELA ELITE 2012 PREMIER vs PRSC PREMIER 2012 SILVER
TRANSP:OPAQUE
END:VEVENT
BEGIN:VEVENT
UID:66373066-3664-4831-b735-316333376666
DTSTAMP:20260424T125014Z
CLASS:PUBLIC
DESCRIPTION:YSSL 14U/5N Game
DTSTART;TZID=America/Chicago:20260502T150000
DTEND;TZID=America/Chicago:20260502T150000
LOCATION:KNIGGE FIELD - 11V11
SUMMARY:Game: 14U/5N ELA ELITE 2012 PREMIER vs LASC 2012 SELECT
TRANSP:OPAQUE
END:VEVENT
BEGIN:VEVENT
UID:62613265-6236-4861-a332-613732636334
DTSTAMP:20260424T125014Z
CLASS:PUBLIC
DESCRIPTION:YSSL 14U/5N Game
DTSTART;TZID=America/Chicago:20260606T083000
DTEND;TZID=America/Chicago:20260606T083000
LOCATION:LAKE VILLA TOWNSHIP SOCCER COMPLEX  - FIELD E - 11V11
SUMMARY:Game: 14U/5N LASC 2012 SELECT vs ELA ELITE 2012 PREMIER
TRANSP:OPAQUE
END:VEVENT
BEGIN:VEVENT
UID:32663538-6536-4363-b836-356633626434
DTSTAMP:20260424T125014Z
CLASS:PUBLIC
DESCRIPTION:YSSL 14U/5N Game
DTSTART;TZID=America/Chicago:20260531T180000
DTEND;TZID=America/Chicago:20260531T180000
LOCATION:MELAS PARK - #1  11V11
SUMMARY:Game: 14U/5N ELITE S.C. 2012 BLACK vs ELA ELITE 2012 PREMIER
TRANSP:OPAQUE
END:VEVENT
END:VCALENDAR
