BEGIN:VCALENDAR
VERSION:2.0
PRODID:-//yssl.org//NONSGML kigkonsult.se iCalcreator 2.41.92//
CALSCALE:GREGORIAN
METHOD:PUBLISH
UID:32313561-3136-4962-a139-643465376433
X-WR-CALNAME:YSSL Calendar
X-WR-CALDESC:YSSL Calendar
X-WR-TIMEZONE:America/Chicago
BEGIN:VEVENT
UID:62376662-6633-4635-a362-376130353161
DTSTAMP:20260425T041201Z
CLASS:PUBLIC
DESCRIPTION:YSSL 14U/1 Game
DTSTART;TZID=America/Chicago:20260411T163000
DTEND;TZID=America/Chicago:20260411T163000
LOCATION:WICKLOW FIELD - 11V11
SUMMARY:Game: 14U/1 ELA ELITE 2012 vs CHICAGO CELTIC SC 2012 GREEN
TRANSP:OPAQUE
END:VEVENT
BEGIN:VEVENT
UID:61313737-6131-4238-b861-383333356561
DTSTAMP:20260425T041201Z
CLASS:PUBLIC
DESCRIPTION:YSSL 14U/1 Game
DTSTART;TZID=America/Chicago:20260426T090000
DTEND;TZID=America/Chicago:20260426T090000
LOCATION:COMMISSIONERS PARK (NAPERVILLE) - A
SUMMARY:Game: 14U/1 AJAX FC NAPERVILLE 2012 RED A vs ELA ELITE 2012
TRANSP:OPAQUE
END:VEVENT
BEGIN:VEVENT
UID:31363437-6566-4939-b361-656231663230
DTSTAMP:20260425T041201Z
CLASS:PUBLIC
DESCRIPTION:YSSL 14U/1 Game
DTSTART;TZID=America/Chicago:20260503T170000
DTEND;TZID=America/Chicago:20260503T170000
LOCATION:KNIGGE FIELD
SUMMARY:Game: 14U/1 ELA ELITE 2012 vs TIGRES DC 2012
TRANSP:OPAQUE
END:VEVENT
BEGIN:VEVENT
UID:38623564-3239-4865-b732-656531646165
DTSTAMP:20260425T041201Z
CLASS:PUBLIC
DESCRIPTION:YSSL 14U/1 Game
DTSTART;TZID=America/Chicago:20260502T150000
DTEND;TZID=America/Chicago:20260502T150000
LOCATION:WICKLOW FIELD - 11V11
SUMMARY:Game: 14U/1 ELA ELITE 2012 vs CHICAGO EDGE B2012 PREMIER XI
TRANSP:OPAQUE
END:VEVENT
BEGIN:VEVENT
UID:32626634-6339-4436-b531-616339626534
DTSTAMP:20260425T041201Z
CLASS:PUBLIC
DESCRIPTION:YSSL 14U/1 Game
DTSTART;TZID=America/Chicago:20260509T130000
DTEND;TZID=America/Chicago:20260509T130000
LOCATION:REDMOND PARK
SUMMARY:Game: 14U/1 CHICAGO CELTIC SC 2012 GREEN vs ELA ELITE 2012
TRANSP:OPAQUE
END:VEVENT
BEGIN:VEVENT
UID:64326134-3636-4537-b133-633166363361
DTSTAMP:20260425T041201Z
CLASS:PUBLIC
DESCRIPTION:YSSL 14U/1 Game
DTSTART;TZID=America/Chicago:20260530T123000
DTEND;TZID=America/Chicago:20260530T123000
LOCATION:KNIGGE FIELD
SUMMARY:Game: 14U/1 ELA ELITE 2012 vs AJAX FC NAPERVILLE 2012 RED A
TRANSP:OPAQUE
END:VEVENT
BEGIN:VEVENT
UID:66386666-3439-4432-b730-303433376431
DTSTAMP:20260425T041201Z
CLASS:PUBLIC
DESCRIPTION:YSSL 14U/1 Game
DTSTART;TZID=America/Chicago:20260531T090000
DTEND;TZID=America/Chicago:20260531T090000
LOCATION:HUMBRACHT FIELD
SUMMARY:Game: 14U/1 RUSH WEST 2012 PREMIER vs ELA ELITE 2012
TRANSP:OPAQUE
END:VEVENT
BEGIN:VEVENT
UID:63363932-3336-4365-a435-326537383331
DTSTAMP:20260425T041201Z
CLASS:PUBLIC
DESCRIPTION:YSSL 14U/1 Game
DTSTART;TZID=America/Chicago:20260607T170000
DTEND;TZID=America/Chicago:20260607T170000
LOCATION:FOXDALE PARK
SUMMARY:Game: 14U/1 TIGRES DC 2012 vs ELA ELITE 2012
TRANSP:OPAQUE
END:VEVENT
END:VCALENDAR
