BEGIN:VCALENDAR
VERSION:2.0
PRODID:-//yssl.org//NONSGML kigkonsult.se iCalcreator 2.41.92//
CALSCALE:GREGORIAN
METHOD:PUBLISH
UID:63353436-6136-4165-b138-663966623137
X-WR-CALNAME:YSSL Calendar
X-WR-CALDESC:YSSL Calendar
X-WR-TIMEZONE:America/Chicago
BEGIN:VEVENT
UID:35376561-3639-4636-b131-653336306234
DTSTAMP:20260424T155017Z
CLASS:PUBLIC
DESCRIPTION:YSSL 12U/4NW2 Game
DTSTART;TZID=America/Chicago:20260411T090000
DTEND;TZID=America/Chicago:20260411T090000
LOCATION:COUNTRYSIDE WEST - 9V9
SUMMARY:Game: 12U/4NW2 ELA ELITE 2014 SELECT vs CHICAGO INFERNO 2014 PREMIE
 R BLUE
TRANSP:OPAQUE
END:VEVENT
BEGIN:VEVENT
UID:37663262-3333-4461-b862-363135386334
DTSTAMP:20260424T155017Z
CLASS:PUBLIC
DESCRIPTION:YSSL 12U/4NW2 Game
DTSTART;TZID=America/Chicago:20260517T143000
DTEND;TZID=America/Chicago:20260517T143000
LOCATION:MCHENRY TOWNSHIP  - #2 (U11-U12)
SUMMARY:Game: 12U/4NW2 IP-NUFC 2014 BLACK vs ELA ELITE 2014 SELECT
TRANSP:OPAQUE
END:VEVENT
BEGIN:VEVENT
UID:64323865-6339-4965-b231-666635623731
DTSTAMP:20260424T155017Z
CLASS:PUBLIC
DESCRIPTION:YSSL 12U/4NW2 Game
DTSTART;TZID=America/Chicago:20260425T090000
DTEND;TZID=America/Chicago:20260425T090000
LOCATION:VEHE PK
SUMMARY:Game: 12U/4NW2 ELA ELITE 2014 SELECT vs IP-NUFC 2014 BLACK
TRANSP:OPAQUE
END:VEVENT
BEGIN:VEVENT
UID:61656237-6565-4465-b338-653835663233
DTSTAMP:20260424T155017Z
CLASS:PUBLIC
DESCRIPTION:YSSL 12U/4NW2 Game
DTSTART;TZID=America/Chicago:20260503T094500
DTEND;TZID=America/Chicago:20260503T094500
LOCATION:PRAIRIE MEADOWS
SUMMARY:Game: 12U/4NW2 FVB 2014 OLYMPICS vs ELA ELITE 2014 SELECT
TRANSP:OPAQUE
END:VEVENT
BEGIN:VEVENT
UID:62663233-6239-4936-a464-313062393039
DTSTAMP:20260424T155017Z
CLASS:PUBLIC
DESCRIPTION:YSSL 12U/4NW2 Game
DTSTART;TZID=America/Chicago:20260509T173000
DTEND;TZID=America/Chicago:20260509T173000
LOCATION:COUNTRYSIDE WEST - 9V9
SUMMARY:Game: 12U/4NW2 ELA ELITE 2014 SELECT vs FORCE 2014B H PREMIER
TRANSP:OPAQUE
END:VEVENT
BEGIN:VEVENT
UID:36386136-3330-4634-a432-316138396337
DTSTAMP:20260424T155017Z
CLASS:PUBLIC
DESCRIPTION:YSSL 12U/4NW2 Game
DTSTART;TZID=America/Chicago:20260516T110000
DTEND;TZID=America/Chicago:20260516T110000
LOCATION:COUNTRYSIDE WEST - 9V9
SUMMARY:Game: 12U/4NW2 ELA ELITE 2014 SELECT vs CROSSFIRE SC 2014
TRANSP:OPAQUE
END:VEVENT
BEGIN:VEVENT
UID:30383565-3134-4734-b262-616430363935
DTSTAMP:20260424T155017Z
CLASS:PUBLIC
DESCRIPTION:YSSL 12U/4NW2 Game
DTSTART;TZID=America/Chicago:20260530T160000
DTEND;TZID=America/Chicago:20260530T160000
LOCATION:MCHENRY ATHLETIC COMPLEX  - GRASS FIELD #2 (9V9)
SUMMARY:Game: 12U/4NW2 CHICAGO INFERNO 2014 PREMIER BLUE vs ELA ELITE 2014 
 SELECT
TRANSP:OPAQUE
END:VEVENT
BEGIN:VEVENT
UID:64373033-3433-4432-b866-323332646132
DTSTAMP:20260424T155017Z
CLASS:PUBLIC
DESCRIPTION:YSSL 12U/4NW2 Game
DTSTART;TZID=America/Chicago:20260607T143000
DTEND;TZID=America/Chicago:20260607T143000
LOCATION:NORTHWOOD MIDDLE SCHOOL
SUMMARY:Game: 12U/4NW2 CROSSFIRE SC 2014 vs ELA ELITE 2014 SELECT
TRANSP:OPAQUE
END:VEVENT
END:VCALENDAR
