BEGIN:VCALENDAR
VERSION:2.0
PRODID:-//yssl.org//NONSGML kigkonsult.se iCalcreator 2.41.92//
CALSCALE:GREGORIAN
METHOD:PUBLISH
UID:39303730-3134-4839-a136-383134636463
X-WR-CALNAME:YSSL Calendar
X-WR-CALDESC:YSSL Calendar
X-WR-TIMEZONE:America/Chicago
BEGIN:VEVENT
UID:33623830-3833-4234-b931-613030666265
DTSTAMP:20260425T172327Z
CLASS:PUBLIC
DESCRIPTION:YSSL 11U/3N Game
DTSTART;TZID=America/Chicago:20260411T174500
DTEND;TZID=America/Chicago:20260411T174500
LOCATION:VEHE PK
SUMMARY:Game: 11U/3N ELA ELITE 2015 PREMIER vs FC-1 ACADEMY 2015 SELECT BLU
 E 1
TRANSP:OPAQUE
END:VEVENT
BEGIN:VEVENT
UID:64326666-6465-4564-a430-386532303862
DTSTAMP:20260425T172327Z
CLASS:PUBLIC
DESCRIPTION:YSSL 11U/3N Game
DTSTART;TZID=America/Chicago:20260531T090000
DTEND;TZID=America/Chicago:20260531T090000
LOCATION:CELTIC PARK FIELD  - 5
SUMMARY:Game: 11U/3N PALATINE CELTIC 2015 GREEN vs ELA ELITE 2015 PREMIER
TRANSP:OPAQUE
END:VEVENT
BEGIN:VEVENT
UID:34373638-6136-4364-b464-373364633331
DTSTAMP:20260425T172327Z
CLASS:PUBLIC
DESCRIPTION:YSSL 11U/3N Game
DTSTART;TZID=America/Chicago:20260426T113000
DTEND;TZID=America/Chicago:20260426T113000
LOCATION:COUNTRYSIDE WEST - 9V9
SUMMARY:Game: 11U/3N ELA ELITE 2015 PREMIER vs PEGASUS FC/1974 2016 RED
TRANSP:OPAQUE
END:VEVENT
BEGIN:VEVENT
UID:35326163-6262-4638-b932-366663623038
DTSTAMP:20260425T172327Z
CLASS:PUBLIC
DESCRIPTION:YSSL 11U/3N Game
DTSTART;TZID=America/Chicago:20260502T140000
DTEND;TZID=America/Chicago:20260502T140000
LOCATION:WAUKEGAN SPORTS PARK - 9V9
SUMMARY:Game: 11U/3N HOTC ELITE 2015 vs ELA ELITE 2015 PREMIER
TRANSP:OPAQUE
END:VEVENT
BEGIN:VEVENT
UID:35616565-3731-4665-b062-386333393461
DTSTAMP:20260425T172327Z
CLASS:PUBLIC
DESCRIPTION:YSSL 11U/3N Game
DTSTART;TZID=America/Chicago:20260509T160000
DTEND;TZID=America/Chicago:20260509T160000
LOCATION:COUNTRYSIDE WEST - 9V9
SUMMARY:Game: 11U/3N ELA ELITE 2015 PREMIER vs PEGASUS FC/1974 2015 BLACK
TRANSP:OPAQUE
END:VEVENT
BEGIN:VEVENT
UID:31313632-6338-4635-b665-343432313764
DTSTAMP:20260425T172327Z
CLASS:PUBLIC
DESCRIPTION:YSSL 11U/3N Game
DTSTART;TZID=America/Chicago:20260425T090000
DTEND;TZID=America/Chicago:20260425T090000
LOCATION:COUNTRYSIDE WEST
SUMMARY:Game: 11U/3N ELA ELITE 2015 PREMIER vs NSFC 2016 ELITE
TRANSP:OPAQUE
END:VEVENT
BEGIN:VEVENT
UID:62663736-3864-4533-b062-346561663966
DTSTAMP:20260425T172327Z
CLASS:PUBLIC
DESCRIPTION:YSSL 11U/3N Game
DTSTART;TZID=America/Chicago:20260606T180000
DTEND;TZID=America/Chicago:20260606T180000
LOCATION:WILMETTE COMMUNITY  PLAYFIELD - 3
SUMMARY:Game: 11U/3N RUSH - WILMETTE WINGS 2016 PREMIER BOYS vs ELA ELITE 2
 015 PREMIER
TRANSP:OPAQUE
END:VEVENT
BEGIN:VEVENT
UID:32353964-6462-4638-a632-306330393466
DTSTAMP:20260425T172327Z
CLASS:PUBLIC
DESCRIPTION:YSSL 11U/3N Game
DTSTART;TZID=America/Chicago:20260530T133000
DTEND;TZID=America/Chicago:20260530T133000
LOCATION:LAKE FOREST HIGH SCHOOL WEST CAMPUS - 9V9
SUMMARY:Game: 11U/3N NSFC 2016 ELITE vs ELA ELITE 2015 PREMIER
TRANSP:OPAQUE
END:VEVENT
END:VCALENDAR
