BEGIN:VCALENDAR
VERSION:2.0
PRODID:-//yssl.org//NONSGML kigkonsult.se iCalcreator 2.41.92//
CALSCALE:GREGORIAN
METHOD:PUBLISH
UID:65326462-3936-4131-b733-333137333938
X-WR-CALNAME:YSSL Calendar
X-WR-CALDESC:YSSL Calendar
X-WR-TIMEZONE:America/Chicago
BEGIN:VEVENT
UID:36653963-3432-4662-a565-653565666332
DTSTAMP:20260424T154947Z
CLASS:PUBLIC
DESCRIPTION:YSSL 10U/5NE1 Game
DTSTART;TZID=America/Chicago:20260607T153000
DTEND;TZID=America/Chicago:20260607T153000
LOCATION:DEER PARK TOWN CENTER
SUMMARY:Game: 10U/5NE1 ELA ELITE 2016 SELECT vs PRSC 2016 BLUE
TRANSP:OPAQUE
END:VEVENT
BEGIN:VEVENT
UID:30386139-6435-4937-b966-353731633665
DTSTAMP:20260424T154947Z
CLASS:PUBLIC
DESCRIPTION:YSSL 10U/5NE1 Game
DTSTART;TZID=America/Chicago:20260418T150000
DTEND;TZID=America/Chicago:20260418T150000
LOCATION:DEER PARK TOWN CENTER - 7V7
SUMMARY:Game: 10U/5NE1 ELA ELITE 2016 SELECT vs IP-ARLINGTON ACES 2016 GREE
 N
TRANSP:OPAQUE
END:VEVENT
BEGIN:VEVENT
UID:63356335-6137-4465-a533-396231336433
DTSTAMP:20260424T154947Z
CLASS:PUBLIC
DESCRIPTION:YSSL 10U/5NE1 Game
DTSTART;TZID=America/Chicago:20260530T170000
DTEND;TZID=America/Chicago:20260530T170000
LOCATION:CAROUSEL PARK
SUMMARY:Game: 10U/5NE1 IP-ARLINGTON ACES 2016 GREEN vs ELA ELITE 2016 SELEC
 T
TRANSP:OPAQUE
END:VEVENT
BEGIN:VEVENT
UID:34623435-3865-4661-a438-336336306136
DTSTAMP:20260424T154947Z
CLASS:PUBLIC
DESCRIPTION:YSSL 10U/5NE1 Game
DTSTART;TZID=America/Chicago:20260419T150000
DTEND;TZID=America/Chicago:20260419T150000
LOCATION:SCIENCE &amp\; ARTS ACADEMY
SUMMARY:Game: 10U/5NE1 NORRIDGE UNITED 2016 SELECT vs ELA ELITE 2016 SELECT
TRANSP:OPAQUE
END:VEVENT
BEGIN:VEVENT
UID:34323761-3130-4965-b133-666135393538
DTSTAMP:20260424T154947Z
CLASS:PUBLIC
DESCRIPTION:YSSL 10U/5NE1 Game
DTSTART;TZID=America/Chicago:20260531T090000
DTEND;TZID=America/Chicago:20260531T090000
LOCATION:HERITAGE OAKS
SUMMARY:Game: 10U/5NE1 HAWTHORN WOODS ELITE 2016 GREEN vs ELA ELITE 2016 SE
 LECT
TRANSP:OPAQUE
END:VEVENT
BEGIN:VEVENT
UID:61323336-3531-4961-a563-646166613334
DTSTAMP:20260424T154947Z
CLASS:PUBLIC
DESCRIPTION:YSSL 10U/5NE1 Game
DTSTART;TZID=America/Chicago:20260426T090000
DTEND;TZID=America/Chicago:20260426T090000
LOCATION:EMERSON MIDDLE SCHOOL  - NW
SUMMARY:Game: 10U/5NE1 PRSC 2016 BLUE vs ELA ELITE 2016 SELECT
TRANSP:OPAQUE
END:VEVENT
BEGIN:VEVENT
UID:64366362-6161-4433-b063-626664346331
DTSTAMP:20260424T154947Z
CLASS:PUBLIC
DESCRIPTION:YSSL 10U/5NE1 Game
DTSTART;TZID=America/Chicago:20260517T090000
DTEND;TZID=America/Chicago:20260517T090000
LOCATION:DEER PARK TOWN CENTER - 7V7
SUMMARY:Game: 10U/5NE1 ELA ELITE 2016 SELECT vs PALATINE CELTIC 2016 WHITE
TRANSP:OPAQUE
END:VEVENT
BEGIN:VEVENT
UID:66643335-6236-4430-b035-333333633961
DTSTAMP:20260424T154947Z
CLASS:PUBLIC
DESCRIPTION:YSSL 10U/5NE1 Game
DTSTART;TZID=America/Chicago:20260502T150000
DTEND;TZID=America/Chicago:20260502T150000
LOCATION:ORCHARD FIELD
SUMMARY:Game: 10U/5NE1 ELA ELITE 2016 SELECT vs HAWTHORN WOODS ELITE 2016 G
 REEN
TRANSP:OPAQUE
END:VEVENT
END:VCALENDAR
