BEGIN:VCALENDAR
VERSION:2.0
PRODID:-//yssl.org//NONSGML kigkonsult.se iCalcreator 2.41.92//
CALSCALE:GREGORIAN
METHOD:PUBLISH
UID:64366231-6464-4261-b736-616336636563
X-WR-CALNAME:YSSL Calendar
X-WR-CALDESC:YSSL Calendar
X-WR-TIMEZONE:America/Chicago
BEGIN:VEVENT
UID:38396538-6664-4664-b436-623736366261
DTSTAMP:20260425T223841Z
CLASS:PUBLIC
DESCRIPTION:YSSL 10U/5NE2 Game
DTSTART;TZID=America/Chicago:20260411T130000
DTEND;TZID=America/Chicago:20260411T130000
LOCATION:DEER PARK TOWN CENTER - 7V7
SUMMARY:Game: 10U/5NE2 ELA ELITE 2016 PREMIER vs WINDY CITY FC 2016
TRANSP:OPAQUE
END:VEVENT
BEGIN:VEVENT
UID:64363331-3134-4662-b735-303061643737
DTSTAMP:20260425T223841Z
CLASS:PUBLIC
DESCRIPTION:YSSL 10U/5NE2 Game
DTSTART;TZID=America/Chicago:20260517T130000
DTEND;TZID=America/Chicago:20260517T130000
LOCATION:ORCHARD FIELD
SUMMARY:Game: 10U/5NE2 ELA ELITE 2016 PREMIER vs ELITE S. C. 2016 ESCO
TRANSP:OPAQUE
END:VEVENT
BEGIN:VEVENT
UID:33353763-6330-4536-b463-616666343964
DTSTAMP:20260425T223841Z
CLASS:PUBLIC
DESCRIPTION:YSSL 10U/5NE2 Game
DTSTART;TZID=America/Chicago:20260425T120000
DTEND;TZID=America/Chicago:20260425T120000
LOCATION:HERITAGE PARK (WHEELING) - #12 7V7
SUMMARY:Game: 10U/5NE2 ELITE S. C. 2016 ESCO vs ELA ELITE 2016 PREMIER
TRANSP:OPAQUE
END:VEVENT
BEGIN:VEVENT
UID:34633833-6565-4561-b861-373036366430
DTSTAMP:20260425T223841Z
CLASS:PUBLIC
DESCRIPTION:YSSL 10U/5NE2 Game
DTSTART;TZID=America/Chicago:20260412T173000
DTEND;TZID=America/Chicago:20260412T173000
LOCATION:NORTH PARK FIELDS  - #6 (7V7)
SUMMARY:Game: 10U/5NE2 RUSH NORTH 2016  BLUE vs ELA ELITE 2016 PREMIER
TRANSP:OPAQUE
END:VEVENT
BEGIN:VEVENT
UID:38383234-6430-4931-b331-323663343963
DTSTAMP:20260425T223841Z
CLASS:PUBLIC
DESCRIPTION:YSSL 10U/5NE2 Game
DTSTART;TZID=America/Chicago:20260509T134500
DTEND;TZID=America/Chicago:20260509T134500
LOCATION:RON BEESE PARK - RB 2
SUMMARY:Game: 10U/5NE2 FCB 2016 WHITE vs ELA ELITE 2016 PREMIER
TRANSP:OPAQUE
END:VEVENT
BEGIN:VEVENT
UID:61383065-6663-4261-b334-373764613030
DTSTAMP:20260425T223841Z
CLASS:PUBLIC
DESCRIPTION:YSSL 10U/5NE2 Game
DTSTART;TZID=America/Chicago:20260516T113000
DTEND;TZID=America/Chicago:20260516T113000
LOCATION:HERITAGE PARK (WHEELING) - FIELD 12
SUMMARY:Game: 10U/5NE2 WINDY CITY FC 2016 vs ELA ELITE 2016 PREMIER
TRANSP:OPAQUE
END:VEVENT
BEGIN:VEVENT
UID:65623733-3236-4063-a132-346130386363
DTSTAMP:20260425T223841Z
CLASS:PUBLIC
DESCRIPTION:YSSL 10U/5NE2 Game
DTSTART;TZID=America/Chicago:20260530T130000
DTEND;TZID=America/Chicago:20260530T130000
LOCATION:DEER PARK TOWN CENTER - 7V7
SUMMARY:Game: 10U/5NE2 ELA ELITE 2016 PREMIER vs PALATINE CELTIC 2016 GREEN
TRANSP:OPAQUE
END:VEVENT
BEGIN:VEVENT
UID:36396433-3737-4363-b732-613136363734
DTSTAMP:20260425T223841Z
CLASS:PUBLIC
DESCRIPTION:YSSL 10U/5NE2 Game
DTSTART;TZID=America/Chicago:20260426T153000
DTEND;TZID=America/Chicago:20260426T153000
LOCATION:DEER PARK TOWN CENTER - 7V7
SUMMARY:Game: 10U/5NE2 ELA ELITE 2016 PREMIER vs FCB 2016 WHITE
TRANSP:OPAQUE
END:VEVENT
END:VCALENDAR
