BEGIN:VCALENDAR
VERSION:2.0
PRODID:-//yssl.org//NONSGML kigkonsult.se iCalcreator 2.41.92//
CALSCALE:GREGORIAN
METHOD:PUBLISH
UID:63353330-6639-4233-b930-383761356664
X-WR-CALNAME:YSSL Calendar
X-WR-CALDESC:YSSL Calendar
X-WR-TIMEZONE:America/Chicago
BEGIN:VEVENT
UID:36353736-3631-4362-b032-303630356666
DTSTAMP:20260424T201942Z
CLASS:PUBLIC
DESCRIPTION:YSSL 12U/5NW1 Game
DTSTART;TZID=America/Chicago:20260426T090000
DTEND;TZID=America/Chicago:20260426T090000
LOCATION:LIPPOLD PARK SOCCER COMPLEX - FIELD 1
SUMMARY:Game: 12U/5NW1 FORCE 2014B CL PREMIER vs ELA ELITE 2014 COMPETITIVE
TRANSP:OPAQUE
END:VEVENT
BEGIN:VEVENT
UID:63393361-3533-4462-a361-363032313531
DTSTAMP:20260424T201942Z
CLASS:PUBLIC
DESCRIPTION:YSSL 12U/5NW1 Game
DTSTART;TZID=America/Chicago:20260425T140000
DTEND;TZID=America/Chicago:20260425T140000
LOCATION:LIPPOLD PARK SOCCER COMPLEX - FIELD 16
SUMMARY:Game: 12U/5NW1 FORCE 2014B CL PREMIER vs LIBERTYVILLE FC 1974-2014C
 -SELECT 2
TRANSP:OPAQUE
END:VEVENT
BEGIN:VEVENT
UID:62643233-6232-4335-b738-633164373731
DTSTAMP:20260424T201942Z
CLASS:PUBLIC
DESCRIPTION:YSSL 12U/5NW1 Game
DTSTART;TZID=America/Chicago:20260502T161500
DTEND;TZID=America/Chicago:20260502T161500
LOCATION:TOMASO - 8
SUMMARY:Game: 12U/5NW1 FORCE 2014B CL PREMIER vs CHICAGO INFERNO 2014 PREMI
 ER 1
TRANSP:OPAQUE
END:VEVENT
BEGIN:VEVENT
UID:34353136-6665-4436-a666-346333653562
DTSTAMP:20260424T201942Z
CLASS:PUBLIC
DESCRIPTION:YSSL 12U/5NW1 Game
DTSTART;TZID=America/Chicago:20260509T123000
DTEND;TZID=America/Chicago:20260509T123000
LOCATION:LIPPOLD PARK SOCCER COMPLEX - FIELD 16
SUMMARY:Game: 12U/5NW1 FORCE 2014B CL PREMIER vs NA - ROUND LAKE JUNIORS 20
 14 SILVER
TRANSP:OPAQUE
END:VEVENT
BEGIN:VEVENT
UID:61636131-6435-4166-a261-646339303663
DTSTAMP:20260424T201942Z
CLASS:PUBLIC
DESCRIPTION:YSSL 12U/5NW1 Game
DTSTART;TZID=America/Chicago:20260501T193000
DTEND;TZID=America/Chicago:20260501T193000
LOCATION:LIPPOLD PARK SOCCER COMPLEX - 16
SUMMARY:Game: 12U/5NW1 FORCE 2014B CL PREMIER vs REAL MADRID ROUND LAKE FC 
 2014  ELITE
TRANSP:OPAQUE
END:VEVENT
BEGIN:VEVENT
UID:31303137-3332-4563-b865-373466323363
DTSTAMP:20260424T201942Z
CLASS:PUBLIC
DESCRIPTION:YSSL 12U/5NW1 Game
DTSTART;TZID=America/Chicago:20260530T163000
DTEND;TZID=America/Chicago:20260530T163000
LOCATION:MCHENRY TOWNSHIP  - #2 (U11-U12)
SUMMARY:Game: 12U/5NW1 IP-NUFC 2014 ORANGE vs FORCE 2014B CL PREMIER
TRANSP:OPAQUE
END:VEVENT
BEGIN:VEVENT
UID:38633161-3834-4634-a664-623232656330
DTSTAMP:20260424T201942Z
CLASS:PUBLIC
DESCRIPTION:YSSL 12U/5NW1 Game
DTSTART;TZID=America/Chicago:20260605T183000
DTEND;TZID=America/Chicago:20260605T183000
LOCATION:LTSC FLD - FIELD 17A
SUMMARY:Game: 12U/5NW1 LIBERTYVILLE FC 1974-2014C-SELECT 2 vs FORCE 2014B C
 L PREMIER
TRANSP:OPAQUE
END:VEVENT
BEGIN:VEVENT
UID:30383933-6135-4437-a664-313830333464
DTSTAMP:20260424T201942Z
CLASS:PUBLIC
DESCRIPTION:YSSL 12U/5NW1 Game
DTSTART;TZID=America/Chicago:20260412T090000
DTEND;TZID=America/Chicago:20260412T090000
LOCATION:RON BEESE PARK - RB 5
SUMMARY:Game: 12U/5NW1 FCB 2014 RED vs FORCE 2014B CL PREMIER
TRANSP:OPAQUE
END:VEVENT
END:VCALENDAR
