BEGIN:VCALENDAR
VERSION:2.0
PRODID:-//yssl.org//NONSGML kigkonsult.se iCalcreator 2.41.92//
CALSCALE:GREGORIAN
METHOD:PUBLISH
UID:36653730-6537-4434-b138-653639353561
X-WR-CALNAME:YSSL Calendar
X-WR-CALDESC:YSSL Calendar
X-WR-TIMEZONE:America/Chicago
BEGIN:VEVENT
UID:34373738-6134-4330-a662-376430623439
DTSTAMP:20260425T003749Z
CLASS:PUBLIC
DESCRIPTION:YSSL 12U/4NW2 Game
DTSTART;TZID=America/Chicago:20260411T141500
DTEND;TZID=America/Chicago:20260411T141500
LOCATION:MCHENRY MIDDLE SCHOOL - 9V9
SUMMARY:Game: 12U/4NW2 IP-NUFC 2014 BLACK vs FORCE 2014B H PREMIER
TRANSP:OPAQUE
END:VEVENT
BEGIN:VEVENT
UID:39316133-6230-4633-a632-353239363761
DTSTAMP:20260425T003749Z
CLASS:PUBLIC
DESCRIPTION:YSSL 12U/4NW2 Game
DTSTART;TZID=America/Chicago:20260503T090000
DTEND;TZID=America/Chicago:20260503T090000
LOCATION:TOMASO - 8
SUMMARY:Game: 12U/4NW2 FORCE 2014B H PREMIER vs CROSSFIRE SC 2014
TRANSP:OPAQUE
END:VEVENT
BEGIN:VEVENT
UID:32376666-6637-4531-b465-313665336339
DTSTAMP:20260425T003749Z
CLASS:PUBLIC
DESCRIPTION:YSSL 12U/4NW2 Game
DTSTART;TZID=America/Chicago:20260511T184500
DTEND;TZID=America/Chicago:20260511T184500
LOCATION:PRAIRIE MEADOWS - 1
SUMMARY:Game: 12U/4NW2 FVB 2014 OLYMPICS vs FORCE 2014B H PREMIER
TRANSP:OPAQUE
END:VEVENT
BEGIN:VEVENT
UID:37633334-6430-4137-a263-633764636366
DTSTAMP:20260425T003749Z
CLASS:PUBLIC
DESCRIPTION:YSSL 12U/4NW2 Game
DTSTART;TZID=America/Chicago:20260502T150000
DTEND;TZID=America/Chicago:20260502T150000
LOCATION:TOMASO - 8
SUMMARY:Game: 12U/4NW2 FORCE 2014B H PREMIER vs CHICAGO INFERNO 2014 PREMIE
 R BLUE
TRANSP:OPAQUE
END:VEVENT
BEGIN:VEVENT
UID:66656337-6139-4266-b036-326263356133
DTSTAMP:20260425T003749Z
CLASS:PUBLIC
DESCRIPTION:YSSL 12U/4NW2 Game
DTSTART;TZID=America/Chicago:20260509T173000
DTEND;TZID=America/Chicago:20260509T173000
LOCATION:COUNTRYSIDE WEST - 9V9
SUMMARY:Game: 12U/4NW2 ELA ELITE 2014 SELECT vs FORCE 2014B H PREMIER
TRANSP:OPAQUE
END:VEVENT
BEGIN:VEVENT
UID:32303066-6562-4566-b638-613566333766
DTSTAMP:20260425T003749Z
CLASS:PUBLIC
DESCRIPTION:YSSL 12U/4NW2 Game
DTSTART;TZID=America/Chicago:20260419T120000
DTEND;TZID=America/Chicago:20260419T120000
LOCATION:LIPPOLD PARK SOCCER COMPLEX - FIELD #16
SUMMARY:Game: 12U/4NW2 FORCE 2014B H PREMIER vs IP-NUFC 2014 BLACK
TRANSP:OPAQUE
END:VEVENT
BEGIN:VEVENT
UID:66323137-3935-4030-b366-306334643266
DTSTAMP:20260425T003749Z
CLASS:PUBLIC
DESCRIPTION:YSSL 12U/4NW2 Game
DTSTART;TZID=America/Chicago:20260530T143000
DTEND;TZID=America/Chicago:20260530T143000
LOCATION:NORTHWOOD MIDDLE SCHOOL
SUMMARY:Game: 12U/4NW2 CROSSFIRE SC 2014 vs FORCE 2014B H PREMIER
TRANSP:OPAQUE
END:VEVENT
BEGIN:VEVENT
UID:63653065-6330-4665-b432-666331626531
DTSTAMP:20260425T003749Z
CLASS:PUBLIC
DESCRIPTION:YSSL 12U/4NW2 Game
DTSTART;TZID=America/Chicago:20260510T130000
DTEND;TZID=America/Chicago:20260510T130000
LOCATION:TOMASO - 8
SUMMARY:Game: 12U/4NW2 FORCE 2014B H PREMIER vs FVB 2014 OLYMPICS
TRANSP:OPAQUE
END:VEVENT
END:VCALENDAR
