BEGIN:VCALENDAR
VERSION:2.0
PRODID:-//yssl.org//NONSGML kigkonsult.se iCalcreator 2.41.92//
CALSCALE:GREGORIAN
METHOD:PUBLISH
UID:36646566-3166-4735-b730-663765346564
X-WR-CALNAME:YSSL Calendar
X-WR-CALDESC:YSSL Calendar
X-WR-TIMEZONE:America/Chicago
BEGIN:VEVENT
UID:39366561-6466-4133-a437-383963363837
DTSTAMP:20260425T142017Z
CLASS:PUBLIC
DESCRIPTION:YSSL 13U/4N Game
DTSTART;TZID=America/Chicago:20260412T090000
DTEND;TZID=America/Chicago:20260412T090000
LOCATION:HUNT CLUB PARK - HC 2
SUMMARY:Game: 13U/4N FC LAKE COUNTY 2013 SELECT 1 vs CHICAGO MAGIC 2013 CUP
TRANSP:OPAQUE
END:VEVENT
BEGIN:VEVENT
UID:30336466-3836-4564-a338-313838323563
DTSTAMP:20260425T142017Z
CLASS:PUBLIC
DESCRIPTION:YSSL 13U/4N Game
DTSTART;TZID=America/Chicago:20260418T130000
DTEND;TZID=America/Chicago:20260418T130000
LOCATION:DANNY CUNNIFF  - NORTH LARGE
SUMMARY:Game: 13U/4N CHICAGO MAGIC 2013 CUP vs PALATINE CELTIC 2013 GREEN
TRANSP:OPAQUE
END:VEVENT
BEGIN:VEVENT
UID:63333630-6364-4263-a363-396230656665
DTSTAMP:20260425T142017Z
CLASS:PUBLIC
DESCRIPTION:YSSL 13U/4N Game
DTSTART;TZID=America/Chicago:20260425T153000
DTEND;TZID=America/Chicago:20260425T153000
LOCATION:DEERPATH COMMUNITY PARK (LAKE FOREST) - 9V9
SUMMARY:Game: 13U/4N 60 UNITED - LFSA 2013 BLUE vs CHICAGO MAGIC 2013 CUP
TRANSP:OPAQUE
END:VEVENT
BEGIN:VEVENT
UID:64616331-3262-4434-b434-613937313963
DTSTAMP:20260425T142017Z
CLASS:PUBLIC
DESCRIPTION:YSSL 13U/4N Game
DTSTART;TZID=America/Chicago:20260503T100000
DTEND;TZID=America/Chicago:20260503T100000
LOCATION:DANNY CUNNIFF  - NORTH LARGE
SUMMARY:Game: 13U/4N CHICAGO MAGIC 2013 CUP vs RUSH NORTH 2013 BLUE 1
TRANSP:OPAQUE
END:VEVENT
BEGIN:VEVENT
UID:63336636-6132-4461-a662-656338363166
DTSTAMP:20260425T142017Z
CLASS:PUBLIC
DESCRIPTION:YSSL 13U/4N Game
DTSTART;TZID=America/Chicago:20260509T140000
DTEND;TZID=America/Chicago:20260509T140000
LOCATION:WAUKEGAN SPORTS PARK - 11V11
SUMMARY:Game: 13U/4N HOTC ELITE 2013 vs CHICAGO MAGIC 2013 CUP
TRANSP:OPAQUE
END:VEVENT
BEGIN:VEVENT
UID:35343636-3136-4332-b964-396136663239
DTSTAMP:20260425T142017Z
CLASS:PUBLIC
DESCRIPTION:YSSL 13U/4N Game
DTSTART;TZID=America/Chicago:20260607T140000
DTEND;TZID=America/Chicago:20260607T140000
LOCATION:KNIGGE FIELD - 11V11
SUMMARY:Game: 13U/4N ELA ELITE 2013 PREMIER vs CHICAGO MAGIC 2013 CUP
TRANSP:OPAQUE
END:VEVENT
BEGIN:VEVENT
UID:32383230-6365-4435-b636-643164633261
DTSTAMP:20260425T142017Z
CLASS:PUBLIC
DESCRIPTION:YSSL 13U/4N Game
DTSTART;TZID=America/Chicago:20260530T130000
DTEND;TZID=America/Chicago:20260530T130000
LOCATION:DANNY CUNNIFF  - NORTH LARGE
SUMMARY:Game: 13U/4N CHICAGO MAGIC 2013 CUP vs NSFC 2013 VOLT
TRANSP:OPAQUE
END:VEVENT
BEGIN:VEVENT
UID:66333033-3666-4561-b935-643938633430
DTSTAMP:20260425T142017Z
CLASS:PUBLIC
DESCRIPTION:YSSL 13U/4N Game
DTSTART;TZID=America/Chicago:20260606T130000
DTEND;TZID=America/Chicago:20260606T130000
LOCATION:DANNY CUNNIFF  - NORTH  LARGE
SUMMARY:Game: 13U/4N CHICAGO MAGIC 2013 CUP vs ELA ELITE 2013 PREMIER
TRANSP:OPAQUE
END:VEVENT
END:VCALENDAR
