BEGIN:VCALENDAR
VERSION:2.0
PRODID:-//yssl.org//NONSGML kigkonsult.se iCalcreator 2.41.92//
CALSCALE:GREGORIAN
METHOD:PUBLISH
UID:66323434-6666-4633-b133-383561613063
X-WR-CALNAME:YSSL Calendar
X-WR-CALDESC:YSSL Calendar
X-WR-TIMEZONE:America/Chicago
BEGIN:VEVENT
UID:65386364-6338-4430-b036-663765323532
DTSTAMP:20260426T002842Z
CLASS:PUBLIC
DESCRIPTION:YSSL 9U/2S Game
DTSTART;TZID=America/Chicago:20260426T160000
DTEND;TZID=America/Chicago:20260426T160000
LOCATION:NEWCASTLE PARK
SUMMARY:Game: 9U/2S ACADEMIA ATLAS  FC 2017 SELECT vs CHICAGO INTER SOCCER 
 CLUB 2017 RED
TRANSP:OPAQUE
END:VEVENT
BEGIN:VEVENT
UID:30653061-6665-4331-b065-363131336239
DTSTAMP:20260426T002842Z
CLASS:PUBLIC
DESCRIPTION:YSSL 9U/2S Game
DTSTART;TZID=America/Chicago:20260517T090000
DTEND;TZID=America/Chicago:20260517T090000
LOCATION:CHICAGO INTER SOCCER COMPLEX - A
SUMMARY:Game: 9U/2S CHICAGO INTER SOCCER CLUB 2017 RED vs DEPORTIVO 2017 TU
 RICATO FC
TRANSP:OPAQUE
END:VEVENT
BEGIN:VEVENT
UID:38313436-6361-4636-b836-306537323034
DTSTAMP:20260426T002842Z
CLASS:PUBLIC
DESCRIPTION:YSSL 9U/2S Game
DTSTART;TZID=America/Chicago:20260425T153000
DTEND;TZID=America/Chicago:20260425T153000
LOCATION:BRENT HASSERT PARK
SUMMARY:Game: 9U/2S CHICAGO INTER SOCCER CLUB 2017 RED vs CHICAGO EDGE B201
 7 PREMIER
TRANSP:OPAQUE
END:VEVENT
BEGIN:VEVENT
UID:65363666-3931-4130-b261-356462383832
DTSTAMP:20260426T002842Z
CLASS:PUBLIC
DESCRIPTION:YSSL 9U/2S Game
DTSTART;TZID=America/Chicago:20260613T110000
DTEND;TZID=America/Chicago:20260613T110000
LOCATION:CHICAGO INTER SOCCER COMPLEX - A
SUMMARY:Game: 9U/2S CHICAGO INTER SOCCER CLUB 2017 RED vs GALAXY 2017 WEST 
 BLUE
TRANSP:OPAQUE
END:VEVENT
BEGIN:VEVENT
UID:39313335-3362-4438-b362-666338366433
DTSTAMP:20260426T002842Z
CLASS:PUBLIC
DESCRIPTION:YSSL 9U/2S Game
DTSTART;TZID=America/Chicago:20260509T164500
DTEND;TZID=America/Chicago:20260509T164500
LOCATION:SEVEN GABLES PARK - F1
SUMMARY:Game: 9U/2S WHEATON UNITED 2017 ACADEMY vs CHICAGO INTER SOCCER CLU
 B 2017 RED
TRANSP:OPAQUE
END:VEVENT
BEGIN:VEVENT
UID:30623466-3365-4338-a638-386530303433
DTSTAMP:20260426T002842Z
CLASS:PUBLIC
DESCRIPTION:YSSL 9U/2S Game
DTSTART;TZID=America/Chicago:20260607T100000
DTEND;TZID=America/Chicago:20260607T100000
LOCATION:CORNERSTONE LAKES PARK
SUMMARY:Game: 9U/2S WEST CHICAGO FC 2017 vs CHICAGO INTER SOCCER CLUB 2017 
 RED
TRANSP:OPAQUE
END:VEVENT
BEGIN:VEVENT
UID:31613733-3636-4566-a135-643236343437
DTSTAMP:20260426T002842Z
CLASS:PUBLIC
DESCRIPTION:YSSL 9U/2S Game
DTSTART;TZID=America/Chicago:20260501T183000
DTEND;TZID=America/Chicago:20260501T183000
LOCATION:CENTENNIAL PARK (ORLAND PARK) - FIELD #7 (7V7)
SUMMARY:Game: 9U/2S ORLAND PARK STING FC 2017 PREMIER vs CHICAGO INTER SOCC
 ER CLUB 2017 RED
TRANSP:OPAQUE
END:VEVENT
BEGIN:VEVENT
UID:63666666-3963-4237-b031-306435323335
DTSTAMP:20260426T002842Z
CLASS:PUBLIC
DESCRIPTION:YSSL 9U/2S Game
DTSTART;TZID=America/Chicago:20260531T113000
DTEND;TZID=America/Chicago:20260531T113000
LOCATION:CHICAGO INTER SOCCER COMPLEX - A
SUMMARY:Game: 9U/2S CHICAGO INTER SOCCER CLUB 2017 RED vs IEFC 2017 U9 BOYS
TRANSP:OPAQUE
END:VEVENT
END:VCALENDAR
