BEGIN:VCALENDAR
VERSION:2.0
PRODID:-//yssl.org//NONSGML kigkonsult.se iCalcreator 2.41.92//
CALSCALE:GREGORIAN
METHOD:PUBLISH
UID:32396264-3339-4865-b361-356663656364
X-WR-CALNAME:YSSL Calendar
X-WR-CALDESC:YSSL Calendar
X-WR-TIMEZONE:America/Chicago
BEGIN:VEVENT
UID:36633730-3136-4630-b039-393764633836
DTSTAMP:20260426T002912Z
CLASS:PUBLIC
DESCRIPTION:YSSL 7U-4V4/W Game
DTSTART;TZID=America/Chicago:20260412T080000
DTEND;TZID=America/Chicago:20260412T080000
LOCATION:OAK BROOK POLO FIELDS - I 5V5
SUMMARY:Game: 7U-4V4/W CHICAGO EMPIRE FC 2019/2020 GOLD vs CHICAGO INTER SY
 NERGY 2019/2020 GREEN
TRANSP:OPAQUE
END:VEVENT
BEGIN:VEVENT
UID:36343764-6431-4334-a563-383132663664
DTSTAMP:20260426T002912Z
CLASS:PUBLIC
DESCRIPTION:YSSL 7U-4V4/W Game
DTSTART;TZID=America/Chicago:20260418T120000
DTEND;TZID=America/Chicago:20260418T120000
LOCATION:KENSINGTON PARK (LOMBARD) - 4V4 FIELD
SUMMARY:Game: 7U-4V4/W CHICAGO INTER SYNERGY 2019/2020 GREEN vs WC LIONS AC
 ADEMY BOYS 2019/20
TRANSP:OPAQUE
END:VEVENT
BEGIN:VEVENT
UID:31353733-6239-4637-b633-316134633235
DTSTAMP:20260426T002912Z
CLASS:PUBLIC
DESCRIPTION:YSSL 7U-4V4/W Game
DTSTART;TZID=America/Chicago:20260425T154500
DTEND;TZID=America/Chicago:20260425T154500
LOCATION:OAK BROOK POLO FIELDS - I 5V5
SUMMARY:Game: 7U-4V4/W CHICAGO EMPIRE FC 2019 WHITE vs CHICAGO INTER SYNERG
 Y 2019/2020 GREEN
TRANSP:OPAQUE
END:VEVENT
BEGIN:VEVENT
UID:38353361-3031-4436-b834-363366306239
DTSTAMP:20260426T002912Z
CLASS:PUBLIC
DESCRIPTION:YSSL 7U-4V4/W Game
DTSTART;TZID=America/Chicago:20260503T114500
DTEND;TZID=America/Chicago:20260503T114500
LOCATION:KENSINGTON PARK (LOMBARD) - 4V4 FIELD
SUMMARY:Game: 7U-4V4/W CHICAGO INTER SYNERGY 2019/2020 GREEN vs WEST CHICAG
 O FC 2019
TRANSP:OPAQUE
END:VEVENT
BEGIN:VEVENT
UID:64353833-6163-4231-a537-366565336435
DTSTAMP:20260426T002912Z
CLASS:PUBLIC
DESCRIPTION:YSSL 7U-4V4/W Game
DTSTART;TZID=America/Chicago:20260509T153000
DTEND;TZID=America/Chicago:20260509T153000
LOCATION:COMMUNITY ATHLETIC FIELDS
SUMMARY:Game: 7U-4V4/W EGSC 2019 PREMIER vs CHICAGO INTER SYNERGY 2019/2020
  GREEN
TRANSP:OPAQUE
END:VEVENT
BEGIN:VEVENT
UID:33343161-3134-4639-b961-396133316132
DTSTAMP:20260426T002912Z
CLASS:PUBLIC
DESCRIPTION:YSSL 7U-4V4/W Game
DTSTART;TZID=America/Chicago:20260517T100000
DTEND;TZID=America/Chicago:20260517T100000
LOCATION:ELGIN SPORTS COMPLEX - 5V5
SUMMARY:Game: 7U-4V4/W CHICAGO CITY PUMAS 2019 vs CHICAGO INTER SYNERGY 201
 9/2020 GREEN
TRANSP:OPAQUE
END:VEVENT
BEGIN:VEVENT
UID:35663639-3239-4630-a339-336532663536
DTSTAMP:20260426T002912Z
CLASS:PUBLIC
DESCRIPTION:YSSL 7U-4V4/W Game
DTSTART;TZID=America/Chicago:20260531T114500
DTEND;TZID=America/Chicago:20260531T114500
LOCATION:KENSINGTON PARK (LOMBARD) - 4V4 FIELD
SUMMARY:Game: 7U-4V4/W CHICAGO INTER SYNERGY 2019/2020 GREEN vs SUFC 2020 N
 EMEZIZ
TRANSP:OPAQUE
END:VEVENT
BEGIN:VEVENT
UID:37303132-6632-4439-b131-396636613662
DTSTAMP:20260426T002912Z
CLASS:PUBLIC
DESCRIPTION:YSSL 7U-4V4/W Game
DTSTART;TZID=America/Chicago:20260607T114500
DTEND;TZID=America/Chicago:20260607T114500
LOCATION:KENSINGTON PARK (LOMBARD) - 4V4 FIELD
SUMMARY:Game: 7U-4V4/W CHICAGO INTER SYNERGY 2019/2020 GREEN vs CHICAGO CIT
 Y PUMAS 2019
TRANSP:OPAQUE
END:VEVENT
END:VCALENDAR
