BEGIN:VCALENDAR
VERSION:2.0
PRODID:-//yssl.org//NONSGML kigkonsult.se iCalcreator 2.41.92//
CALSCALE:GREGORIAN
METHOD:PUBLISH
UID:33343736-3566-4265-a566-666631656132
X-WR-CALNAME:YSSL Calendar
X-WR-CALDESC:YSSL Calendar
X-WR-TIMEZONE:America/Chicago
BEGIN:VEVENT
UID:63656539-3733-4262-b464-366136646664
DTSTAMP:20260425T223940Z
CLASS:PUBLIC
DESCRIPTION:YSSL 8U-7V7/3S Game
DTSTART;TZID=America/Chicago:20260502T160000
DTEND;TZID=America/Chicago:20260502T160000
LOCATION:OAK BROOK POLO FIELDS - F 7V7
SUMMARY:Game: 8U-7V7/3S CHICAGO EMPIRE FC 2018 GOLD 1 vs ECLIPSE 2018 SOLAR
  NAPERVILLE
TRANSP:OPAQUE
END:VEVENT
BEGIN:VEVENT
UID:33363033-3032-4062-a562-373165333366
DTSTAMP:20260425T223940Z
CLASS:PUBLIC
DESCRIPTION:YSSL 8U-7V7/3S Game
DTSTART;TZID=America/Chicago:20260418T170000
DTEND;TZID=America/Chicago:20260418T170000
LOCATION:OLYMPIC PARK FIELD - FIELD 7
SUMMARY:Game: 8U-7V7/3S BARCA ACADEMY CHICAGO 2018 BLAU vs CHICAGO EMPIRE F
 C 2018 GOLD 1
TRANSP:OPAQUE
END:VEVENT
BEGIN:VEVENT
UID:66613036-6132-4032-b134-376132613336
DTSTAMP:20260425T223940Z
CLASS:PUBLIC
DESCRIPTION:YSSL 8U-7V7/3S Game
DTSTART;TZID=America/Chicago:20260425T153000
DTEND;TZID=America/Chicago:20260425T153000
LOCATION:OAK BROOK POLO FIELDS - J 7V7
SUMMARY:Game: 8U-7V7/3S CHICAGO EMPIRE FC 2018 GOLD 1 vs WEST CHICAGO FC 20
 18 RED
TRANSP:OPAQUE
END:VEVENT
BEGIN:VEVENT
UID:35343066-3435-4061-a434-626261373638
DTSTAMP:20260425T223940Z
CLASS:PUBLIC
DESCRIPTION:YSSL 8U-7V7/3S Game
DTSTART;TZID=America/Chicago:20260426T180000
DTEND;TZID=America/Chicago:20260426T180000
LOCATION:OAK BROOK POLO FIELDS - F 7V7
SUMMARY:Game: 8U-7V7/3S CHICAGO EMPIRE FC 2018 GOLD 1 vs ELA ELITE 2018
TRANSP:OPAQUE
END:VEVENT
BEGIN:VEVENT
UID:38363066-6263-4661-b564-386534336264
DTSTAMP:20260425T223940Z
CLASS:PUBLIC
DESCRIPTION:YSSL 8U-7V7/3S Game
DTSTART;TZID=America/Chicago:20260509T120000
DTEND;TZID=America/Chicago:20260509T120000
LOCATION:CENTRAL PARK FIELDS - FOREST GATE RD. ENTRANCE - 7V7
SUMMARY:Game: 8U-7V7/3S ECLIPSE 2018 SOLAR NAPERVILLE vs CHICAGO EMPIRE FC 
 2018 GOLD 1
TRANSP:OPAQUE
END:VEVENT
BEGIN:VEVENT
UID:64313136-6136-4634-a437-663132343635
DTSTAMP:20260425T223940Z
CLASS:PUBLIC
DESCRIPTION:YSSL 8U-7V7/3S Game
DTSTART;TZID=America/Chicago:20260530T133000
DTEND;TZID=America/Chicago:20260530T133000
LOCATION:RON BEESE PARK - RB 3
SUMMARY:Game: 8U-7V7/3S FCB 2018 BLACK vs CHICAGO EMPIRE FC 2018 GOLD 1
TRANSP:OPAQUE
END:VEVENT
BEGIN:VEVENT
UID:66653366-3862-4239-a262-656532393530
DTSTAMP:20260425T223940Z
CLASS:PUBLIC
DESCRIPTION:YSSL 8U-7V7/3S Game
DTSTART;TZID=America/Chicago:20260606T140000
DTEND;TZID=America/Chicago:20260606T140000
LOCATION:CORNERSTONE LAKES PARK
SUMMARY:Game: 8U-7V7/3S WEST CHICAGO FC 2018 RED vs CHICAGO EMPIRE FC 2018 
 GOLD 1
TRANSP:OPAQUE
END:VEVENT
BEGIN:VEVENT
UID:65656564-3965-4132-b932-396332313262
DTSTAMP:20260425T223940Z
CLASS:PUBLIC
DESCRIPTION:YSSL 8U-7V7/3S Game
DTSTART;TZID=America/Chicago:20260531T090000
DTEND;TZID=America/Chicago:20260531T090000
LOCATION:OAK BROOK POLO FIELDS - J 7V7
SUMMARY:Game: 8U-7V7/3S CHICAGO EMPIRE FC 2018 GOLD 1 vs BARCA ACADEMY CHIC
 AGO 2018 BLAU
TRANSP:OPAQUE
END:VEVENT
END:VCALENDAR
