BEGIN:VCALENDAR
VERSION:2.0
PRODID:-//yssl.org//NONSGML kigkonsult.se iCalcreator 2.41.92//
CALSCALE:GREGORIAN
METHOD:PUBLISH
UID:66616263-6237-4335-a662-343630613033
X-WR-CALNAME:YSSL Calendar
X-WR-CALDESC:YSSL Calendar
X-WR-TIMEZONE:America/Chicago
BEGIN:VEVENT
UID:61393635-3232-4035-b761-333633363933
DTSTAMP:20260425T155605Z
CLASS:PUBLIC
DESCRIPTION:YSSL 8U-7V7/3S Game
DTSTART;TZID=America/Chicago:20260411T090000
DTEND;TZID=America/Chicago:20260411T090000
LOCATION:DEER PARK TOWN CENTER - 7V7
SUMMARY:Game: 8U-7V7/3S ELA ELITE 2018 vs BARCA ACADEMY CHICAGO 2018 BLAU
TRANSP:OPAQUE
END:VEVENT
BEGIN:VEVENT
UID:62313230-3133-4636-b863-313930313062
DTSTAMP:20260425T155605Z
CLASS:PUBLIC
DESCRIPTION:YSSL 8U-7V7/3S Game
DTSTART;TZID=America/Chicago:20260418T170000
DTEND;TZID=America/Chicago:20260418T170000
LOCATION:OLYMPIC PARK FIELD - FIELD 7
SUMMARY:Game: 8U-7V7/3S BARCA ACADEMY CHICAGO 2018 BLAU vs CHICAGO EMPIRE F
 C 2018 GOLD 1
TRANSP:OPAQUE
END:VEVENT
BEGIN:VEVENT
UID:36656561-3664-4437-b737-383939383234
DTSTAMP:20260425T155605Z
CLASS:PUBLIC
DESCRIPTION:YSSL 8U-7V7/3S Game
DTSTART;TZID=America/Chicago:20260412T120000
DTEND;TZID=America/Chicago:20260412T120000
LOCATION:OLYMPIC PARK FIELD - FIELD 7
SUMMARY:Game: 8U-7V7/3S BARCA ACADEMY CHICAGO 2018 BLAU vs ECLIPSE 2018 SOL
 AR NAPERVILLE
TRANSP:OPAQUE
END:VEVENT
BEGIN:VEVENT
UID:30333264-3665-4730-b431-656166356634
DTSTAMP:20260425T155605Z
CLASS:PUBLIC
DESCRIPTION:YSSL 8U-7V7/3S Game
DTSTART;TZID=America/Chicago:20260502T090000
DTEND;TZID=America/Chicago:20260502T090000
LOCATION:CORNERSTONE LAKES PARK
SUMMARY:Game: 8U-7V7/3S WEST CHICAGO FC 2018 RED vs BARCA ACADEMY CHICAGO 2
 018 BLAU
TRANSP:OPAQUE
END:VEVENT
BEGIN:VEVENT
UID:66666265-3235-4537-a639-663731336366
DTSTAMP:20260425T155605Z
CLASS:PUBLIC
DESCRIPTION:YSSL 8U-7V7/3S Game
DTSTART;TZID=America/Chicago:20260509T170000
DTEND;TZID=America/Chicago:20260509T170000
LOCATION:OLYMPIC PARK FIELD - FIELD 7
SUMMARY:Game: 8U-7V7/3S BARCA ACADEMY CHICAGO 2018 BLAU vs FCB 2018 BLACK
TRANSP:OPAQUE
END:VEVENT
BEGIN:VEVENT
UID:33366536-3539-4561-a537-393733346235
DTSTAMP:20260425T155605Z
CLASS:PUBLIC
DESCRIPTION:YSSL 8U-7V7/3S Game
DTSTART;TZID=America/Chicago:20260530T174500
DTEND;TZID=America/Chicago:20260530T174500
LOCATION:OLYMPIC PARK FIELD - FIELD 8
SUMMARY:Game: 8U-7V7/3S BARCA ACADEMY CHICAGO 2018 BLAU vs ELA ELITE 2018
TRANSP:OPAQUE
END:VEVENT
BEGIN:VEVENT
UID:35666534-3637-4365-a130-643434383238
DTSTAMP:20260425T155605Z
CLASS:PUBLIC
DESCRIPTION:YSSL 8U-7V7/3S Game
DTSTART;TZID=America/Chicago:20260606T133000
DTEND;TZID=America/Chicago:20260606T133000
LOCATION:RON BEESE PARK - RB 3
SUMMARY:Game: 8U-7V7/3S FCB 2018 BLACK vs BARCA ACADEMY CHICAGO 2018 BLAU
TRANSP:OPAQUE
END:VEVENT
BEGIN:VEVENT
UID:61356132-3333-4535-b535-343438306636
DTSTAMP:20260425T155605Z
CLASS:PUBLIC
DESCRIPTION:YSSL 8U-7V7/3S Game
DTSTART;TZID=America/Chicago:20260531T090000
DTEND;TZID=America/Chicago:20260531T090000
LOCATION:OAK BROOK POLO FIELDS - J 7V7
SUMMARY:Game: 8U-7V7/3S CHICAGO EMPIRE FC 2018 GOLD 1 vs BARCA ACADEMY CHIC
 AGO 2018 BLAU
TRANSP:OPAQUE
END:VEVENT
END:VCALENDAR
