BEGIN:VCALENDAR
VERSION:2.0
PRODID:-//yssl.org//NONSGML kigkonsult.se iCalcreator 2.41.92//
CALSCALE:GREGORIAN
METHOD:PUBLISH
UID:63616330-3565-4234-a439-303163656330
X-WR-CALNAME:YSSL Calendar
X-WR-CALDESC:YSSL Calendar
X-WR-TIMEZONE:America/Chicago
BEGIN:VEVENT
UID:33306635-6131-4232-a130-623763616263
DTSTAMP:20260424T222418Z
CLASS:PUBLIC
DESCRIPTION:YSSL 14U/1 Game
DTSTART;TZID=America/Chicago:20260412T090000
DTEND;TZID=America/Chicago:20260412T090000
LOCATION:CONCORDIA UNIVERSITY CHICAGO
SUMMARY:Game: 14U/1 CHICAGO EDGE B2012 PREMIER XI vs AJAX FC NAPERVILLE 201
 2 RED A
TRANSP:OPAQUE
END:VEVENT
BEGIN:VEVENT
UID:34653736-3665-4433-b336-343738393737
DTSTAMP:20260424T222418Z
CLASS:PUBLIC
DESCRIPTION:YSSL 14U/1 Game
DTSTART;TZID=America/Chicago:20260426T090000
DTEND;TZID=America/Chicago:20260426T090000
LOCATION:COMMISSIONERS PARK (NAPERVILLE) - A
SUMMARY:Game: 14U/1 AJAX FC NAPERVILLE 2012 RED A vs ELA ELITE 2012
TRANSP:OPAQUE
END:VEVENT
BEGIN:VEVENT
UID:39616463-6131-4035-b563-623965363232
DTSTAMP:20260424T222418Z
CLASS:PUBLIC
DESCRIPTION:YSSL 14U/1 Game
DTSTART;TZID=America/Chicago:20260602T184500
DTEND;TZID=America/Chicago:20260602T184500
LOCATION:COMMISSIONERS PARK (NAPERVILLE) - A
SUMMARY:Game: 14U/1 AJAX FC NAPERVILLE 2012 RED A vs CHICAGO CELTIC SC 2012
  GREEN
TRANSP:OPAQUE
END:VEVENT
BEGIN:VEVENT
UID:38633137-6230-4037-a461-646364383032
DTSTAMP:20260424T222418Z
CLASS:PUBLIC
DESCRIPTION:YSSL 14U/1 Game
DTSTART;TZID=America/Chicago:20260517T153000
DTEND;TZID=America/Chicago:20260517T153000
LOCATION:FOXDALE PARK
SUMMARY:Game: 14U/1 TIGRES DC 2012 vs AJAX FC NAPERVILLE 2012 RED A
TRANSP:OPAQUE
END:VEVENT
BEGIN:VEVENT
UID:39323430-6535-4565-b132-343637633866
DTSTAMP:20260424T222418Z
CLASS:PUBLIC
DESCRIPTION:YSSL 14U/1 Game
DTSTART;TZID=America/Chicago:20260510T163000
DTEND;TZID=America/Chicago:20260510T163000
LOCATION:COMMISSIONERS PARK (NAPERVILLE) - A
SUMMARY:Game: 14U/1 AJAX FC NAPERVILLE 2012 RED A vs RUSH WEST 2012 PREMIER
TRANSP:OPAQUE
END:VEVENT
BEGIN:VEVENT
UID:65623430-3839-4930-b066-333461373666
DTSTAMP:20260424T222418Z
CLASS:PUBLIC
DESCRIPTION:YSSL 14U/1 Game
DTSTART;TZID=America/Chicago:20260530T123000
DTEND;TZID=America/Chicago:20260530T123000
LOCATION:KNIGGE FIELD
SUMMARY:Game: 14U/1 ELA ELITE 2012 vs AJAX FC NAPERVILLE 2012 RED A
TRANSP:OPAQUE
END:VEVENT
BEGIN:VEVENT
UID:64373462-3935-4634-b636-623063303638
DTSTAMP:20260424T222418Z
CLASS:PUBLIC
DESCRIPTION:YSSL 14U/1 Game
DTSTART;TZID=America/Chicago:20260607T120000
DTEND;TZID=America/Chicago:20260607T120000
LOCATION:HUMBRACHT FIELD
SUMMARY:Game: 14U/1 RUSH WEST 2012 PREMIER vs AJAX FC NAPERVILLE 2012 RED A
TRANSP:OPAQUE
END:VEVENT
BEGIN:VEVENT
UID:34656561-3938-4764-b231-656138613036
DTSTAMP:20260424T222418Z
CLASS:PUBLIC
DESCRIPTION:YSSL 14U/1 Game
DTSTART;TZID=America/Chicago:20260425T133000
DTEND;TZID=America/Chicago:20260425T133000
LOCATION:COMMISSIONERS PARK (NAPERVILLE) - A
SUMMARY:Game: 14U/1 AJAX FC NAPERVILLE 2012 RED A vs CHICAGO EDGE B2012 PRE
 MIER XI
TRANSP:OPAQUE
END:VEVENT
END:VCALENDAR
